BEGIN:VCALENDAR
VERSION:2.0
PRODID:-//eventon.com NONSGML v1.0//EN
CALSCALE:GREGORIAN
METHOD:PUBLISH
BEGIN:VEVENT
UID:69ea25b0ddf3c
DTSTAMP:20260423T135912Z
DTSTART:20260503T200000Z
DTEND:20260503T220000Z
LOCATION:Plaza Pública del Municipio de Naranito
SUMMARY:Concierto en Gratitud Escuela Mercedes Rosado
DESCRIPTION:Te invitamos a acompañarnos a este gran concierto en gratitud\
 ,  donde estudiante y egresados de la Banda Escolar se unen para compartir 
 su música y honrar los lazos que nos han formado.\nhttps://municipiodenara
 njito.com/events/concierto-en-gratitud-escuela-mercedes-rosado/
URL:https://municipiodenaranjito.com/events/concierto-en-gratitud-escuela-mercedes-rosado/
END:VEVENT
END:VCALENDAR