BEGIN:VCALENDAR
VERSION:2.0
PRODID:-//eventon.com NONSGML v1.0//EN
CALSCALE:GREGORIAN
METHOD:PUBLISH
BEGIN:VEVENT
UID:69ec960356742
DTSTAMP:20260425T102259Z
DTSTART:20260426T140000Z
DTEND:20260426T220000Z
LOCATION:Plaza Pública del Municipio de Naranito
SUMMARY:Primer encuentro de autores ytunas
DESCRIPTION:Feria de libros\,  artesanías y música\nhttps://municipiodena
 ranjito.com/events/primer-encuentro-de-autores-ytunas/
URL:https://municipiodenaranjito.com/events/primer-encuentro-de-autores-ytunas/
END:VEVENT
END:VCALENDAR