BEGIN:VCALENDAR
VERSION:2.0
PRODID:-//eventon.com NONSGML v1.0//EN
CALSCALE:GREGORIAN
METHOD:PUBLISH
BEGIN:VEVENT
UID:69e8b9f7c693b
DTSTAMP:20260422T120719Z
DTSTART:20260428T130000Z
DTEND:20260428T150000Z
LOCATION:Centro de Bellas Artes
SUMMARY:Taller: Programas de negocio y vivienda
DESCRIPTION:Rural Development y el Municipio de Naranjito te invitan a: Ori
 entaci&#8217;on sobre programas de Negocios y Viviendas de Rural Developmen
 t\,  USDA\nhttps://municipiodenaranjito.com/events/taller-programas-de-nego
 cio-y-vivienda/
URL:https://municipiodenaranjito.com/events/taller-programas-de-negocio-y-vivienda/
END:VEVENT
END:VCALENDAR