BEGIN:VCALENDAR
VERSION:2.0
PRODID:-//eventon.com NONSGML v1.0//EN
CALSCALE:GREGORIAN
METHOD:PUBLISH
BEGIN:VEVENT
UID:69ea1036b7b8c
DTSTAMP:20260423T122734Z
DTSTART:20260423T130000Z
DTEND:20260423T160000Z
LOCATION:Centro de Bellas Artes
SUMMARY:Taller: Nuevas oportunidades para diversificar artesanos
DESCRIPTION:Para artesanos certificados\,  candidatos a artesanos y hacedor
 es de cultura en Porta Cortrdillera.\nhttps://municipiodenaranjito.com/even
 ts/taller-nuevas-oportunidades-para-diversificar-artesanos/
URL:https://municipiodenaranjito.com/events/taller-nuevas-oportunidades-para-diversificar-artesanos/
END:VEVENT
END:VCALENDAR