BEGIN:VCALENDAR
VERSION:2.0
PRODID:-//eventon.com NONSGML v1.0//EN
CALSCALE:GREGORIAN
METHOD:PUBLISH
BEGIN:VEVENT
UID:69e8ba263cb3e
DTSTAMP:20260422T120806Z
DTSTART:20260607T130000Z
DTEND:20260608T030000Z
LOCATION:Plaza Pública del Municipio de Naranito
SUMMARY:Festival del Fricasé
DESCRIPTION:Festival del Fricasé\nhttps://municipiodenaranjito.com/events/
 festival-del-fricase/
URL:https://municipiodenaranjito.com/events/festival-del-fricase/
END:VEVENT
END:VCALENDAR