BEGIN:VCALENDAR
VERSION:2.0
PRODID:-//eventon.com NONSGML v1.0//EN
CALSCALE:GREGORIAN
METHOD:PUBLISH
BEGIN:VEVENT
UID:69ea043d2f66f
DTSTAMP:20260423T113629Z
DTSTART:20260426T100000Z
DTEND:20260426T140000Z
LOCATION:Puente Atirantado
SUMMARY:Próxima Vía Libre
DESCRIPTION:Corre Libre en el Puente de Naranjito\nhttps://municipiodenaran
 jito.com/events/proxima-via-libre/
URL:https://municipiodenaranjito.com/events/proxima-via-libre/
END:VEVENT
END:VCALENDAR